BEGIN:VCALENDAR
VERSION:2.0
PRODID:-//Festival International Echternach//NONSGML Events //EN
CALSCALE:GREGORIAN
X-WR-CALNAME:Festival International Echternach - Events

BEGIN:VEVENT
SUMMARY:Daniel Hope & Simon Crawford-Phillips
UID:http://www.echternachfestival.lu?p=4627
DTSTAMP:20170621T165757Z
CREATED:20170131T161259Z
DTSTART:20170609T200000Z
DTEND:20170609T200100Z
DESCRIPTION:Daniel Hope (violon)
Simon Crawford-Phillips (piano)

 	J. Brahms: Sonate FAE: Scherzo; Sonate n° 1 sol M op. 78
 	C. Schumann: Romance op 22 n° 1
 	F. Mendelssohn-Bartholdy: Zwei Lieder: "Auf Flügeln des Gesangs", "Hexenlied"
 	J. Joachim: Roman
LOCATION:Trifolion/Atrium\,  Echternach\, Luxembourg
ORGANIZER: Daniel Hope & Simon Crawford Phillips
END:VEVENT

END:VCALENDAR