BEGIN:VCALENDAR
VERSION:2.0
PRODID:-//Festival International Echternach//NONSGML Events //EN
CALSCALE:GREGORIAN
X-WR-CALNAME:Festival International Echternach - Events

BEGIN:VEVENT
SUMMARY:Igor Levit (piano)
UID:http://www.echternachfestival.lu?p=4770
DTSTAMP:20170621T165841Z
CREATED:20170328T154823Z
DTSTART:20170615T200000Z
DTEND:20170615T200100Z
DESCRIPTION:
 	L.v. Beethoven: Sonate pour piano n° 30  mi mineur, op. 109
 	L.v. Beethoven: Sonate pour piano n° 31  la bémol majeur, op. 110
 	L.v. Beethoven: Sonate pour piano n° 32 ut mineur, op. 111

Le pianiste russe Igor Levit a connu au cours des 
LOCATION:Trifolion/Atrium\, Echternach\, Luxembourg
ORGANIZER: Igor Levit
END:VEVENT

END:VCALENDAR